{"text_format":"1","workbook":"xlsx","n_sheets":4,"sheets":["Instructions","Team Listings","Tee Sheet","Summary Leaderboard (1)"],"not_rendered":{"charts":0,"images":0,"macros":1,"external_links":0,"defined_names":1,"comments":0,"pivot_tables":0},"unopened":[],"bounds":{"document_bytes":16777216,"sheet_cells":100000,"rows_first":2000,"rows_last":500,"rows_between":2000,"halvings":0,"cell_chars":16384,"cell_head_chars":4096},"cells_cut":0,"cells_raw":0,"read":"whole","date_system":"1900"}

{"sheet":"Instructions","index":0,"n_rows":18,"n_cols":1,"rows_kept":18,"cut":false,"hidden":false,"merged":[[16,0,16,11]]}
["Instructions and Comments"]
[]
["The pages/tabs are bolded.  Please make sure you are on the correct page before proceeding with each step."]
[]
["Before starting"]
["1.      Seed Teams according to qualifying team score or season average."]
["2.      Seed Players within team standing according to score shot at regional tournament."]
["3.      Seed individuals by score shot at regional tournaments"]
["4.   For individuals, two or more students from the same school should not play together.  You may need to manually adjust this."]
[]
["Team Listing Worksheet"]
["1.      “Team Seed #1” – enter school name in the appropriate seed lines"]
["2.      “Player #1” – enter player’s name, grade, and qualifying score or average."]
[]
[]
["Tee Sheet"]
["1.      “Tee Sheet” will automatically populate according to the information entered on the “Team Listing Worksheet.”  Check pairings to make sure you don’t have two or more players from the same school in the same tee time.  Manually adjust names on tee sheet only if there is a conflict."]
["2.      Use the tee times created to in the workbook to populate the pairings/tee times in iWanamaker."]

{"sheet":"Team Listings","index":1,"n_rows":114,"n_cols":7,"rows_kept":114,"cut":false,"hidden":false,"merged":[]}
["School","Player #","Player Name","Class","Qual Score"]
[]
["Winner, Regional #1",1,"Player 1"]
["Winner, Regional #1",2,"Player 2"]
["Winner, Regional #1",3,"Player 3"]
["Winner, Regional #1",4,"Player 4"]
["Winner, Regional #1",5,"Player 5"]
["Winner, Regional #1",6,"Player 6"]
["Winner, Regional #2",1,"Player 1"]
["Winner, Regional #2",2,"Player 2"]
["Winner, Regional #2",3,"Player 3"]
["Winner, Regional #2",4,"Player 4"]
["Winner, Regional #2",5,"Player 5"]
["Winner, Regional #2",6,"Player 6"]
["Winner, Regional #3",1,"Player 1"]
["Winner, Regional #3",2,"Player 2"]
["Winner, Regional #3",3,"Player 3"]
["Winner, Regional #3",4,"Player 4"]
["Winner, Regional #3",5,"Player 5"]
["Winner, Regional #3",6,"Player 6"]
["Winner, Regional #4",1,"Player 1"]
["Winner, Regional #4",2,"Player 2"]
["Winner, Regional #4",3,"Player 3"]
["Winner, Regional #4",4,"Player 4"]
["Winner, Regional #4",5,"Player 5"]
["Winner, Regional #4",6,"Player 6"]
["Runner-up, Regional #1",1,"Player 1"]
["Runner-up, Regional #1",2,"Player 2"]
["Runner-up, Regional #1",3,"Player 3"]
["Runner-up, Regional #1",4,"Player 4"]
["Runner-up, Regional #1",5,"Player 5"]
["Runner-up, Regional #1",6,"Player 6"]
["Runner-up, Regional #2",1,"Player 1"]
["Runner-up, Regional #2",2,"Player 2"]
["Runner-up, Regional #2",3,"Player 3"]
["Runner-up, Regional #2",4,"Player 4"]
["Runner-up, Regional #2",5,"Player 5"]
["Runner-up, Regional #2",6,"Player 6"]
["Runner-up, Regional #3",1,"Player 1"]
["Runner-up, Regional #3",2,"Player 2"]
["Runner-up, Regional #3",3,"Player 3"]
["Runner-up, Regional #3",4,"Player 4"]
["Runner-up, Regional #3",5,"Player 5"]
["Runner-up, Regional #3",6,"Player 6"]
["Runner-up, Regional #4",1,"Player 1"]
["Runner-up, Regional #4",2,"Player 2"]
["Runner-up, Regional #4",3,"Player 3"]
["Runner-up, Regional #4",4,"Player 4"]
["Runner-up, Regional #4",5,"Player 5"]
["Runner-up, Regional #4",6,"Player 6"]
["Third Place, Regional #1",1,"Player 1"]
["Third Place, Regional #1",2,"Player 2"]
["Third Place, Regional #1",3,"Player 3"]
["Third Place, Regional #1",4,"Player 4"]
["Third Place, Regional #1",5,"Player 5"]
["Third Place, Regional #1",6,"Player 6"]
["Third Place, Regional #2",1,"Player 1"]
["Third Place, Regional #2",2,"Player 2"]
["Third Place, Regional #2",3,"Player 3"]
["Third Place, Regional #2",4,"Player 4"]
["Third Place, Regional #2",5,"Player 5"]
["Third Place, Regional #2",6,"Player 6"]
["Third Place, Regional #3",1,"Player 1"]
["Third Place, Regional #3",2,"Player 2"]
["Third Place, Regional #3",3,"Player 3"]
["Third Place, Regional #3",4,"Player 4"]
["Third Place, Regional #3",5,"Player 5"]
["Third Place, Regional #3",6,"Player 6"]
["Third Place, Regional #4",1,"Player 1"]
["Third Place, Regional #4",2,"Player 2"]
["Third Place, Regional #4",3,"Player 3"]
["Third Place, Regional #4",4,"Player 4"]
["Third Place, Regional #4",5,"Player 5"]
["Third Place, Regional #4",6,"Player 6"]
["Individual School #1",1,"Individual #1",null,null,null,"NOTE:  After you've entered the last individual competitor,  "]
["Individual School #2",2,"Individual #2",null,null,null,"type \"no player\" in all remaining individual cells beneath that.  "]
["Individual School #3",3,"Individual #3",null,null,null,"This will help populate your \"Tee Sheet\".  When reviewing the "]
["Individual School #4",4,"Individual #4",null,null,null,"\"Tee Sheet\", you can adjust times as needed."]
["Individual School #5",5,"Individual #5"]
["Individual School #6",6,"Individual #6"]
["Individual School #7",7,"Individual #7"]
["Individual School #8",8,"Individual #8"]
["Individual School #9",9,"Individual #9"]
["Individual School #10",10,"Individual #10"]
["Individual School #11",11,"Individual #11"]
["Individual School #12",12,"Individual #12"]
["Individual School #13",13,"Individual #13"]
["Individual School #14",14,"Individual #14"]
["Individual School #15",15,"Individual #15"]
["Individual School #16",16,"Individual #16"]
["Individual School #17",17,"Individual #17"]
["Individual School #18",18,"Individual #18"]
["Individual School #19",19,"Individual #19"]
["Individual School #20",20,"Individual #20"]
["Individual School #21",21,"Individual #21"]
["Individual School #22",22,"Individual #22"]
["Individual School #23",23,"Individual #23"]
["Individual School #24",24,"Individual #24"]
["Individual School #25",25,"Individual #25"]
["Individual School #26",26,"Individual #26"]
["Individual School #27",27,"Individual #27"]
["Individual School #28",28,"Individual #28"]
["Individual School #29",29,"Individual #29"]
["Individual School #30",30,"Individual #30"]
["Individual School #31",31,"Individual #31"]
["Individual School #32",32,"Individual #32"]
["Individual School #33",33,"Individual #33"]
["Individual School #34",34,"Individual #34"]
["Individual School #35",35,"Individual #35"]
["Individual School #36",36,"Individual #36"]
["Individual School #37",37,"Individual #37"]
["Individual School #38",38,"Individual #38"]
["Individual School #39",39,"Individual #39"]
["Individual School #40",40,"Individual #40"]

{"sheet":"Tee Sheet","index":2,"n_rows":61,"n_cols":10,"rows_kept":61,"cut":false,"hidden":false,"merged":[]}
[null,null,null,{"$f":"'Team Listings'!A27","v":"Runner-up, Regional #1"},null,{"$f":"'Team Listings'!A33","v":"Runner-up, Regional #2"},null,{"$f":"'Team Listings'!A39","v":"Runner-up, Regional #3"},null,{"$f":"'Team Listings'!A45","v":"Runner-up, Regional #4"}]
["Front",0.375,null,{"$f":"'Team Listings'!C32","v":"Player 6"},null,{"$f":"'Team Listings'!C38","v":"Player 6"},null,{"$f":"'Team Listings'!C44","v":"Player 6"},null,{"$f":"'Team Listings'!C50","v":"Player 6"}]
["Front",{"$f":"B2+$B$61","v":0.38124999999999998},null,{"$f":"'Team Listings'!C31","v":"Player 5"},null,{"$f":"'Team Listings'!C37","v":"Player 5"},null,{"$f":"'Team Listings'!C43","v":"Player 5"},null,{"$f":"'Team Listings'!C49","v":"Player 5"}]
["Front",{"$f":"B3+$B$61","v":0.38749999999999996},null,{"$f":"'Team Listings'!C30","v":"Player 4"},null,{"$f":"'Team Listings'!C36","v":"Player 4"},null,{"$f":"'Team Listings'!C42","v":"Player 4"},null,{"$f":"'Team Listings'!C48","v":"Player 4"}]
["Front",{"$f":"B4+$B$61","v":0.39374999999999993},null,{"$f":"'Team Listings'!C29","v":"Player 3"},null,{"$f":"'Team Listings'!C35","v":"Player 3"},null,{"$f":"'Team Listings'!C41","v":"Player 3"},null,{"$f":"'Team Listings'!C47","v":"Player 3"}]
["Front",{"$f":"B5+$B$61","v":0.39999999999999991},null,{"$f":"'Team Listings'!C28","v":"Player 2"},null,{"$f":"'Team Listings'!C34","v":"Player 2"},null,{"$f":"'Team Listings'!C40","v":"Player 2"},null,{"$f":"'Team Listings'!C46","v":"Player 2"}]
["Front",{"$f":"B6+$B$61","v":0.40624999999999989},null,{"$f":"'Team Listings'!C27","v":"Player 1"},null,{"$f":"'Team Listings'!C33","v":"Player 1"},null,{"$f":"'Team Listings'!C39","v":"Player 1"},null,{"$f":"'Team Listings'!C45","v":"Player 1"}]
[]
[null,null,null,{"$f":"'Team Listings'!A3","v":"Winner, Regional #1"},null,{"$f":"'Team Listings'!A9","v":"Winner, Regional #2"},null,{"$f":"'Team Listings'!A15","v":"Winner, Regional #3"},null,"Winner, Regional #4"]
["Front",{"$f":"B7+$B$61","v":0.41249999999999987},null,{"$f":"'Team Listings'!C8","v":"Player 6"},null,{"$f":"'Team Listings'!C14","v":"Player 6"},null,{"$f":"'Team Listings'!C20","v":"Player 6"},null,{"$f":"'Team Listings'!C26","v":"Player 6"}]
["Front",{"$f":"B10+$B$61","v":0.41874999999999984},null,{"$f":"'Team Listings'!C7","v":"Player 5"},null,{"$f":"'Team Listings'!C13","v":"Player 5"},null,{"$f":"'Team Listings'!C19","v":"Player 5"},null,{"$f":"'Team Listings'!C25","v":"Player 5"}]
["Front",{"$f":"B11+$B$61","v":0.42499999999999982},null,{"$f":"'Team Listings'!C6","v":"Player 4"},null,{"$f":"'Team Listings'!C12","v":"Player 4"},null,{"$f":"'Team Listings'!C18","v":"Player 4"},null,{"$f":"'Team Listings'!C24","v":"Player 4"}]
["Front",{"$f":"B12+$B$61","v":0.4312499999999998},null,{"$f":"'Team Listings'!C5","v":"Player 3"},null,{"$f":"'Team Listings'!C11","v":"Player 3"},null,{"$f":"'Team Listings'!C17","v":"Player 3"},null,{"$f":"'Team Listings'!C23","v":"Player 3"}]
["Front",{"$f":"B13+$B$61","v":0.43749999999999978},null,{"$f":"'Team Listings'!C4","v":"Player 2"},null,{"$f":"'Team Listings'!C10","v":"Player 2"},null,{"$f":"'Team Listings'!C16","v":"Player 2"},null,{"$f":"'Team Listings'!C22","v":"Player 2"}]
["Front",{"$f":"B14+$B$61","v":0.44374999999999976},null,{"$f":"'Team Listings'!C3","v":"Player 1"},null,{"$f":"'Team Listings'!C9","v":"Player 1"},null,{"$f":"'Team Listings'!C15","v":"Player 1"},null,{"$f":"'Team Listings'!C21","v":"Player 1"}]
[]
[null,null,null,"Individuals",null,"Individuals",null,"Individuals"]
["Front",0.45,null,{"$f":"'Team Listings'!C91","v":"Individual #17"},null,{"$f":"'Team Listings'!C92","v":"Individual #18"},null,{"$f":"'Team Listings'!C93","v":"Individual #19"}]
["Front",0.45624999999999999,null,{"$f":"'Team Listings'!C88","v":"Individual #14"},null,{"$f":"'Team Listings'!C89","v":"Individual #15"},null,{"$f":"'Team Listings'!C90","v":"Individual #16"}]
["Front",0.46249999999999997,null,{"$f":"'Team Listings'!$C$85","v":"Individual #11"},null,{"$f":"'Team Listings'!$C$86","v":"Individual #12"},null,{"$f":"'Team Listings'!C87","v":"Individual #13"}]
["Front",0.46875,null,{"$f":"'Team Listings'!$C$82","v":"Individual #8"},null,{"$f":"'Team Listings'!$C$83","v":"Individual #9"},null,{"$f":"'Team Listings'!$C$84","v":"Individual #10"}]
["Front",0.47500000000000003,null,{"$f":"'Team Listings'!$C$79","v":"Individual #5"},null,{"$f":"'Team Listings'!$C$80","v":"Individual #6"},null,{"$f":"'Team Listings'!$C$81","v":"Individual #7"}]
["Front",{"$f":"B22+$B$61","v":0.48125000000000001},null,{"$f":"'Team Listings'!$C$75","v":"Individual #1"},null,{"$f":"'Team Listings'!$C$76","v":"Individual #2"},null,{"$f":"'Team Listings'!$C$77","v":"Individual #3"},null,{"$f":"'Team Listings'!$C$78","v":"Individual #4"}]
[]
[null,null,null,{"$f":"'Team Listings'!A51","v":"Third Place, Regional #1"},null,{"$f":"'Team Listings'!A57","v":"Third Place, Regional #2"},null,{"$f":"'Team Listings'!$A$63","v":"Third Place, Regional #3"},null,{"$f":"'Team Listings'!$A$69","v":"Third Place, Regional #4"}]
["Back",0.375,null,{"$f":"'Team Listings'!C56","v":"Player 6"},null,{"$f":"'Team Listings'!C62","v":"Player 6"},null,{"$f":"'Team Listings'!$C$68","v":"Player 6"},null,{"$f":"'Team Listings'!$C$74","v":"Player 6"}]
["Back",0.38125000000000003,null,{"$f":"'Team Listings'!C55","v":"Player 5"},null,{"$f":"'Team Listings'!C61","v":"Player 5"},null,{"$f":"'Team Listings'!$C$67","v":"Player 5"},null,{"$f":"'Team Listings'!$C$73","v":"Player 5"}]
["Back",0.38750000000000001,null,{"$f":"'Team Listings'!C54","v":"Player 4"},null,{"$f":"'Team Listings'!C60","v":"Player 4"},null,{"$f":"'Team Listings'!$C$66","v":"Player 4"},null,{"$f":"'Team Listings'!$C$72","v":"Player 4"}]
["Back",0.39374999999999999,null,{"$f":"'Team Listings'!C53","v":"Player 3"},null,{"$f":"'Team Listings'!C59","v":"Player 3"},null,{"$f":"'Team Listings'!$C$65","v":"Player 3"},null,{"$f":"'Team Listings'!$C$71","v":"Player 3"}]
["Back",0.39999999999999997,null,{"$f":"'Team Listings'!C52","v":"Player 2"},null,{"$f":"'Team Listings'!C58","v":"Player 2"},null,{"$f":"'Team Listings'!$C$64","v":"Player 2"},null,{"$f":"'Team Listings'!$C$70","v":"Player 2"}]
["Back",0.40625,null,{"$f":"'Team Listings'!C51","v":"Player 1"},null,{"$f":"'Team Listings'!C57","v":"Player 1"},null,{"$f":"'Team Listings'!$C$63","v":"Player 1"},null,{"$f":"'Team Listings'!$C$69","v":"Player 1"}]
[]
[]
[null,null,null,"Individuals",null,"Individuals",null,"Individuals"]
["Back",0.41250000000000003,null,{"$f":"'Team Listings'!$C$112","v":"Individual #38"},null,{"$f":"'Team Listings'!$C$113","v":"Individual #39"},null,{"$f":"'Team Listings'!$C$114","v":"Individual #40"}]
["Back",{"$f":"B35+$B$61","v":0.41875000000000001},null,{"$f":"'Team Listings'!C109","v":"Individual #35"},null,{"$f":"'Team Listings'!C110","v":"Individual #36"},null,{"$f":"'Team Listings'!$C$111","v":"Individual #37"}]
["Back",{"$f":"B36+$B$61","v":0.42499999999999999},null,{"$f":"'Team Listings'!C106","v":"Individual #32"},null,{"$f":"'Team Listings'!C107","v":"Individual #33"},null,{"$f":"'Team Listings'!C108","v":"Individual #34"}]
["Back",{"$f":"B37+$B$61","v":0.43124999999999997},null,{"$f":"'Team Listings'!C103","v":"Individual #29"},null,{"$f":"'Team Listings'!C104","v":"Individual #30"},null,{"$f":"'Team Listings'!C105","v":"Individual #31"}]
["Back",{"$f":"B38+$B$61","v":0.43749999999999994},null,{"$f":"'Team Listings'!C100","v":"Individual #26"},null,{"$f":"'Team Listings'!C101","v":"Individual #27"},null,{"$f":"'Team Listings'!C102","v":"Individual #28"}]
["Back",{"$f":"B39+$B$61","v":0.44374999999999992},null,{"$f":"'Team Listings'!C97","v":"Individual #23"},null,{"$f":"'Team Listings'!C98","v":"Individual #24"},null,{"$f":"'Team Listings'!C99","v":"Individual #25"}]
[null,null,null,{"$f":"'Team Listings'!C94","v":"Individual #20"},null,{"$f":"'Team Listings'!C95","v":"Individual #21"},null,{"$f":"'Team Listings'!C96","v":"Individual #22"}]
[]
[null,0.45]
["Back",0.45624999999999999]
["Back",{"$f":"B44+$B$61","v":0.46249999999999997}]
["Back",{"$f":"B45+$B$61","v":0.46874999999999994}]
["Back",{"$f":"B46+$B$61","v":0.47499999999999992}]
["Back",{"$f":"B47+$B$61","v":0.4812499999999999}]
["Back",{"$f":"B48+$B$61","v":0.48749999999999988}]
[]
[]
[]
[]
[]
[null,"\"Tee Sheet\" will automatically populate according to the information entered on \"Team Listing Worksheet\""]
[null,"The \"Tee Sheet\" allows for more individuals than you have.  Ignore any cells that do not have a player in it. "]
[null,"Check pairings to make sure you don't have two or more players from the same school in the same tee time."]
[null,"Manually adjust names on tee sheet only, if there is a conflict."]
[null,"Adjust start time by changing highlighted cells only."]
[]
[null,6.2499999999999995E-3]

{"sheet":"Summary Leaderboard (1)","index":3,"n_rows":132,"n_cols":14,"rows_kept":132,"cut":false,"hidden":true,"merged":[[0,2,0,6],[1,2,1,6],[2,2,2,6],[19,4,19,5]]}
[null,null,"Name of Course"]
[null,null,"Par for Course"]
[null,null,"Total Yardage for Course"]
[]
[null,null,"Finish"," Team ","Total"]
[1E-3,{"$f":"F6+A6","v":{"$error":"#REF!"}},{"$f":"RANK(F6,F$6:F$17,6)","v":{"$error":"#REF!"}},{"$f":"#REF!","v":{"$error":"#REF!"}},{"$f":"#REF!","v":{"$error":"#REF!"}},{"$f":"#REF!","v":{"$error":"#REF!"}},1,{"$f":"SMALL($B$6:$B$17,G6)","v":{"$error":"#REF!"}},{"$f":"VLOOKUP($H6,$B$6:$E$17,2,FALSE)","v":{"$error":"#REF!"}},{"$f":"VLOOKUP($H6,$B$6:$E$17,3,FALSE)","v":{"$error":"#REF!"}},{"$f":"VLOOKUP($H6,$B$6:$E$17,4,FALSE)","v":{"$error":"#REF!"}}]
[2E-3,{"$f":"F7+A7","v":{"$error":"#REF!"}},{"$error":"#REF!"},{"$f":"#REF!","v":{"$error":"#REF!"}},{"$f":"#REF!","v":{"$error":"#REF!"}},{"$f":"#REF!","v":{"$error":"#REF!"}},2,{"$f":"SMALL($B$6:$B$17,G7)","v":{"$error":"#REF!"}},{"$error":"#REF!"},{"$error":"#REF!"},{"$error":"#REF!"}]
[3.0000000000000001E-3,{"$error":"#REF!"},{"$error":"#REF!"},{"$f":"#REF!","v":{"$error":"#REF!"}},{"$f":"#REF!","v":{"$error":"#REF!"}},{"$f":"#REF!","v":{"$error":"#REF!"}},3,{"$error":"#REF!"},{"$error":"#REF!"},{"$error":"#REF!"},{"$error":"#REF!"}]
[4.0000000000000001E-3,{"$error":"#REF!"},{"$error":"#REF!"},{"$f":"#REF!","v":{"$error":"#REF!"}},{"$f":"#REF!","v":{"$error":"#REF!"}},{"$f":"#REF!","v":{"$error":"#REF!"}},4,{"$error":"#REF!"},{"$error":"#REF!"},{"$error":"#REF!"},{"$error":"#REF!"}]
[5.0000000000000001E-3,{"$error":"#REF!"},{"$error":"#REF!"},{"$f":"#REF!","v":{"$error":"#REF!"}},{"$f":"#REF!","v":{"$error":"#REF!"}},{"$f":"#REF!","v":{"$error":"#REF!"}},5,{"$error":"#REF!"},{"$error":"#REF!"},{"$error":"#REF!"},{"$error":"#REF!"}]
[6.0000000000000001E-3,{"$error":"#REF!"},{"$error":"#REF!"},{"$f":"#REF!","v":{"$error":"#REF!"}},{"$f":"#REF!","v":{"$error":"#REF!"}},{"$f":"#REF!","v":{"$error":"#REF!"}},6,{"$error":"#REF!"},{"$error":"#REF!"},{"$error":"#REF!"},{"$error":"#REF!"}]
[7.0000000000000001E-3,{"$error":"#REF!"},{"$error":"#REF!"},{"$f":"#REF!","v":{"$error":"#REF!"}},{"$f":"#REF!","v":{"$error":"#REF!"}},{"$f":"#REF!","v":{"$error":"#REF!"}},7,{"$error":"#REF!"},{"$error":"#REF!"},{"$error":"#REF!"},{"$error":"#REF!"}]
[8.0000000000000002E-3,{"$error":"#REF!"},{"$error":"#REF!"},{"$f":"#REF!","v":{"$error":"#REF!"}},{"$f":"#REF!","v":{"$error":"#REF!"}},{"$f":"#REF!","v":{"$error":"#REF!"}},8,{"$error":"#REF!"},{"$error":"#REF!"},{"$error":"#REF!"},{"$error":"#REF!"}]
[8.9999999999999993E-3,{"$error":"#REF!"},{"$error":"#REF!"},{"$f":"#REF!","v":{"$error":"#REF!"}},{"$f":"#REF!","v":{"$error":"#REF!"}},{"$f":"#REF!","v":{"$error":"#REF!"}},9,{"$error":"#REF!"},{"$error":"#REF!"},{"$error":"#REF!"},{"$error":"#REF!"}]
[0.01,{"$error":"#REF!"},{"$error":"#REF!"},{"$f":"#REF!","v":{"$error":"#REF!"}},{"$f":"#REF!","v":{"$error":"#REF!"}},{"$f":"#REF!","v":{"$error":"#REF!"}},10,{"$error":"#REF!"},{"$error":"#REF!"},{"$error":"#REF!"},{"$error":"#REF!"}]
[1.0999999999999999E-2,{"$error":"#REF!"},{"$error":"#REF!"},{"$f":"#REF!","v":{"$error":"#REF!"}},{"$f":"#REF!","v":{"$error":"#REF!"}},{"$f":"#REF!","v":{"$error":"#REF!"}},11,{"$error":"#REF!"},{"$error":"#REF!"},{"$error":"#REF!"},{"$error":"#REF!"}]
[1.2E-2,{"$error":"#REF!"},{"$error":"#REF!"},{"$f":"#REF!","v":{"$error":"#REF!"}},{"$f":"#REF!","v":{"$error":"#REF!"}},{"$f":"#REF!","v":{"$error":"#REF!"}},12,{"$error":"#REF!"},{"$error":"#REF!"},{"$error":"#REF!"},{"$error":"#REF!"}]
[]
[]
[null,null,null,"Name","Team ",null,"Total"]
[1E-3,{"$f":"H21+A21","v":{"$error":"#REF!"}},{"$f":"RANK(H21,H$21:H$132,6)","v":{"$error":"#REF!"}},{"$f":"#REF!","v":{"$error":"#REF!"}},{"$f":"#REF!","v":{"$error":"#REF!"}},null,{"$f":"#REF!","v":{"$error":"#REF!"}},{"$f":"#REF!","v":{"$error":"#REF!"}},1,{"$f":"SMALL($B$21:$B$132,I21)","v":{"$error":"#REF!"}},{"$f":"VLOOKUP($J21,$B$21:$G$132,2,FALSE)","v":{"$error":"#REF!"}},{"$f":"VLOOKUP($J21,$B$21:$G$132,3,FALSE)","v":{"$error":"#REF!"}},{"$f":"VLOOKUP($J21,$B$21:$G$132,4,FALSE)","v":{"$error":"#REF!"}},{"$f":"VLOOKUP($J21,$B$21:$G$132,6,FALSE)","v":{"$error":"#REF!"}}]
[2E-3,{"$f":"H22+A22","v":{"$error":"#REF!"}},{"$f":"RANK(H22,H$21:H$132,6)","v":{"$error":"#REF!"}},{"$f":"#REF!","v":{"$error":"#REF!"}},{"$f":"#REF!","v":{"$error":"#REF!"}},null,{"$f":"#REF!","v":{"$error":"#REF!"}},{"$f":"#REF!","v":{"$error":"#REF!"}},2,{"$f":"SMALL($B$21:$B$132,I22)","v":{"$error":"#REF!"}},{"$f":"VLOOKUP($J22,$B$21:$G$132,2,FALSE)","v":{"$error":"#REF!"}},{"$f":"VLOOKUP($J22,$B$21:$G$132,3,FALSE)","v":{"$error":"#REF!"}},{"$f":"VLOOKUP($J22,$B$21:$G$132,4,FALSE)","v":{"$error":"#REF!"}},{"$f":"VLOOKUP($J22,$B$21:$G$132,6,FALSE)","v":{"$error":"#REF!"}}]
[3.0000000000000001E-3,{"$error":"#REF!"},{"$error":"#REF!"},{"$f":"#REF!","v":{"$error":"#REF!"}},{"$f":"#REF!","v":{"$error":"#REF!"}},null,{"$f":"#REF!","v":{"$error":"#REF!"}},{"$f":"#REF!","v":{"$error":"#REF!"}},3,{"$error":"#REF!"},{"$error":"#REF!"},{"$error":"#REF!"},{"$error":"#REF!"},{"$error":"#REF!"}]
[4.0000000000000001E-3,{"$error":"#REF!"},{"$error":"#REF!"},{"$f":"#REF!","v":{"$error":"#REF!"}},{"$f":"#REF!","v":{"$error":"#REF!"}},null,{"$f":"#REF!","v":{"$error":"#REF!"}},{"$f":"#REF!","v":{"$error":"#REF!"}},4,{"$error":"#REF!"},{"$error":"#REF!"},{"$error":"#REF!"},{"$error":"#REF!"},{"$error":"#REF!"}]
[5.0000000000000001E-3,{"$error":"#REF!"},{"$error":"#REF!"},{"$f":"#REF!","v":{"$error":"#REF!"}},{"$f":"#REF!","v":{"$error":"#REF!"}},null,{"$f":"#REF!","v":{"$error":"#REF!"}},{"$f":"#REF!","v":{"$error":"#REF!"}},5,{"$error":"#REF!"},{"$error":"#REF!"},{"$error":"#REF!"},{"$error":"#REF!"},{"$error":"#REF!"}]
[6.0000000000000001E-3,{"$error":"#REF!"},{"$error":"#REF!"},{"$f":"#REF!","v":{"$error":"#REF!"}},{"$f":"#REF!","v":{"$error":"#REF!"}},null,{"$f":"#REF!","v":{"$error":"#REF!"}},{"$f":"#REF!","v":{"$error":"#REF!"}},6,{"$error":"#REF!"},{"$error":"#REF!"},{"$error":"#REF!"},{"$error":"#REF!"},{"$error":"#REF!"}]
[7.0000000000000001E-3,{"$error":"#REF!"},{"$error":"#REF!"},{"$f":"#REF!","v":{"$error":"#REF!"}},{"$f":"#REF!","v":{"$error":"#REF!"}},null,{"$f":"#REF!","v":{"$error":"#REF!"}},{"$f":"#REF!","v":{"$error":"#REF!"}},7,{"$error":"#REF!"},{"$error":"#REF!"},{"$error":"#REF!"},{"$error":"#REF!"},{"$error":"#REF!"}]
[8.0000000000000002E-3,{"$error":"#REF!"},{"$error":"#REF!"},{"$f":"#REF!","v":{"$error":"#REF!"}},{"$f":"#REF!","v":{"$error":"#REF!"}},null,{"$f":"#REF!","v":{"$error":"#REF!"}},{"$f":"#REF!","v":{"$error":"#REF!"}},8,{"$error":"#REF!"},{"$error":"#REF!"},{"$error":"#REF!"},{"$error":"#REF!"},{"$error":"#REF!"}]
[8.9999999999999993E-3,{"$error":"#REF!"},{"$error":"#REF!"},{"$f":"#REF!","v":{"$error":"#REF!"}},{"$f":"#REF!","v":{"$error":"#REF!"}},null,{"$f":"#REF!","v":{"$error":"#REF!"}},{"$f":"#REF!","v":{"$error":"#REF!"}},9,{"$error":"#REF!"},{"$error":"#REF!"},{"$error":"#REF!"},{"$error":"#REF!"},{"$error":"#REF!"}]
[0.01,{"$error":"#REF!"},{"$error":"#REF!"},{"$f":"#REF!","v":{"$error":"#REF!"}},{"$f":"#REF!","v":{"$error":"#REF!"}},null,{"$f":"#REF!","v":{"$error":"#REF!"}},{"$f":"#REF!","v":{"$error":"#REF!"}},10,{"$error":"#REF!"},{"$error":"#REF!"},{"$error":"#REF!"},{"$error":"#REF!"},{"$error":"#REF!"}]
[1.0999999999999999E-2,{"$error":"#REF!"},{"$error":"#REF!"},{"$f":"#REF!","v":{"$error":"#REF!"}},{"$f":"#REF!","v":{"$error":"#REF!"}},null,{"$f":"#REF!","v":{"$error":"#REF!"}},{"$f":"#REF!","v":{"$error":"#REF!"}},11,{"$error":"#REF!"},{"$error":"#REF!"},{"$error":"#REF!"},{"$error":"#REF!"},{"$error":"#REF!"}]
[1.2E-2,{"$error":"#REF!"},{"$error":"#REF!"},{"$f":"#REF!","v":{"$error":"#REF!"}},{"$f":"#REF!","v":{"$error":"#REF!"}},null,{"$f":"#REF!","v":{"$error":"#REF!"}},{"$f":"#REF!","v":{"$error":"#REF!"}},12,{"$error":"#REF!"},{"$error":"#REF!"},{"$error":"#REF!"},{"$error":"#REF!"},{"$error":"#REF!"}]
[1.2999999999999999E-2,{"$error":"#REF!"},{"$error":"#REF!"},{"$f":"#REF!","v":{"$error":"#REF!"}},{"$f":"#REF!","v":{"$error":"#REF!"}},null,{"$f":"#REF!","v":{"$error":"#REF!"}},{"$f":"#REF!","v":{"$error":"#REF!"}},13,{"$error":"#REF!"},{"$error":"#REF!"},{"$error":"#REF!"},{"$error":"#REF!"},{"$error":"#REF!"}]
[1.4E-2,{"$error":"#REF!"},{"$error":"#REF!"},{"$f":"#REF!","v":{"$error":"#REF!"}},{"$f":"#REF!","v":{"$error":"#REF!"}},null,{"$f":"#REF!","v":{"$error":"#REF!"}},{"$f":"#REF!","v":{"$error":"#REF!"}},14,{"$error":"#REF!"},{"$error":"#REF!"},{"$error":"#REF!"},{"$error":"#REF!"},{"$error":"#REF!"}]
[1.4999999999999999E-2,{"$error":"#REF!"},{"$error":"#REF!"},{"$f":"#REF!","v":{"$error":"#REF!"}},{"$f":"#REF!","v":{"$error":"#REF!"}},null,{"$f":"#REF!","v":{"$error":"#REF!"}},{"$f":"#REF!","v":{"$error":"#REF!"}},15,{"$error":"#REF!"},{"$error":"#REF!"},{"$error":"#REF!"},{"$error":"#REF!"},{"$error":"#REF!"}]
[1.6E-2,{"$error":"#REF!"},{"$error":"#REF!"},{"$f":"#REF!","v":{"$error":"#REF!"}},{"$f":"#REF!","v":{"$error":"#REF!"}},null,{"$f":"#REF!","v":{"$error":"#REF!"}},{"$f":"#REF!","v":{"$error":"#REF!"}},16,{"$error":"#REF!"},{"$error":"#REF!"},{"$error":"#REF!"},{"$error":"#REF!"},{"$error":"#REF!"}]
[1.7000000000000001E-2,{"$error":"#REF!"},{"$error":"#REF!"},{"$f":"#REF!","v":{"$error":"#REF!"}},{"$f":"#REF!","v":{"$error":"#REF!"}},null,{"$f":"#REF!","v":{"$error":"#REF!"}},{"$f":"#REF!","v":{"$error":"#REF!"}},17,{"$error":"#REF!"},{"$error":"#REF!"},{"$error":"#REF!"},{"$error":"#REF!"},{"$error":"#REF!"}]
[1.7999999999999999E-2,{"$error":"#REF!"},{"$error":"#REF!"},{"$f":"#REF!","v":{"$error":"#REF!"}},{"$f":"#REF!","v":{"$error":"#REF!"}},null,{"$f":"#REF!","v":{"$error":"#REF!"}},{"$f":"#REF!","v":{"$error":"#REF!"}},18,{"$error":"#REF!"},{"$error":"#REF!"},{"$error":"#REF!"},{"$error":"#REF!"},{"$error":"#REF!"}]
[1.9E-2,{"$error":"#REF!"},{"$error":"#REF!"},{"$f":"#REF!","v":{"$error":"#REF!"}},{"$f":"#REF!","v":{"$error":"#REF!"}},null,{"$f":"#REF!","v":{"$error":"#REF!"}},{"$f":"#REF!","v":{"$error":"#REF!"}},19,{"$error":"#REF!"},{"$error":"#REF!"},{"$error":"#REF!"},{"$error":"#REF!"},{"$error":"#REF!"}]
[0.02,{"$error":"#REF!"},{"$error":"#REF!"},{"$f":"#REF!","v":{"$error":"#REF!"}},{"$f":"#REF!","v":{"$error":"#REF!"}},null,{"$f":"#REF!","v":{"$error":"#REF!"}},{"$f":"#REF!","v":{"$error":"#REF!"}},20,{"$error":"#REF!"},{"$error":"#REF!"},{"$error":"#REF!"},{"$error":"#REF!"},{"$error":"#REF!"}]
[2.1000000000000001E-2,{"$error":"#REF!"},{"$error":"#REF!"},{"$f":"#REF!","v":{"$error":"#REF!"}},{"$f":"#REF!","v":{"$error":"#REF!"}},null,{"$f":"#REF!","v":{"$error":"#REF!"}},{"$f":"#REF!","v":{"$error":"#REF!"}},21,{"$error":"#REF!"},{"$error":"#REF!"},{"$error":"#REF!"},{"$error":"#REF!"},{"$error":"#REF!"}]
[2.1999999999999999E-2,{"$error":"#REF!"},{"$error":"#REF!"},{"$f":"#REF!","v":{"$error":"#REF!"}},{"$f":"#REF!","v":{"$error":"#REF!"}},null,{"$f":"#REF!","v":{"$error":"#REF!"}},{"$f":"#REF!","v":{"$error":"#REF!"}},22,{"$error":"#REF!"},{"$error":"#REF!"},{"$error":"#REF!"},{"$error":"#REF!"},{"$error":"#REF!"}]
[2.3E-2,{"$error":"#REF!"},{"$error":"#REF!"},{"$f":"#REF!","v":{"$error":"#REF!"}},{"$f":"#REF!","v":{"$error":"#REF!"}},null,{"$f":"#REF!","v":{"$error":"#REF!"}},{"$f":"#REF!","v":{"$error":"#REF!"}},23,{"$error":"#REF!"},{"$error":"#REF!"},{"$error":"#REF!"},{"$error":"#REF!"},{"$error":"#REF!"}]
[2.4E-2,{"$error":"#REF!"},{"$error":"#REF!"},{"$f":"#REF!","v":{"$error":"#REF!"}},{"$f":"#REF!","v":{"$error":"#REF!"}},null,{"$f":"#REF!","v":{"$error":"#REF!"}},{"$f":"#REF!","v":{"$error":"#REF!"}},24,{"$error":"#REF!"},{"$error":"#REF!"},{"$error":"#REF!"},{"$error":"#REF!"},{"$error":"#REF!"}]
[2.5000000000000001E-2,{"$error":"#REF!"},{"$error":"#REF!"},{"$f":"#REF!","v":{"$error":"#REF!"}},{"$f":"#REF!","v":{"$error":"#REF!"}},null,{"$f":"#REF!","v":{"$error":"#REF!"}},{"$f":"#REF!","v":{"$error":"#REF!"}},25,{"$error":"#REF!"},{"$error":"#REF!"},{"$error":"#REF!"},{"$error":"#REF!"},{"$error":"#REF!"}]
[2.5999999999999999E-2,{"$error":"#REF!"},{"$error":"#REF!"},{"$f":"#REF!","v":{"$error":"#REF!"}},{"$f":"#REF!","v":{"$error":"#REF!"}},null,{"$f":"#REF!","v":{"$error":"#REF!"}},{"$f":"#REF!","v":{"$error":"#REF!"}},26,{"$error":"#REF!"},{"$error":"#REF!"},{"$error":"#REF!"},{"$error":"#REF!"},{"$error":"#REF!"}]
[2.7E-2,{"$error":"#REF!"},{"$error":"#REF!"},{"$f":"#REF!","v":{"$error":"#REF!"}},{"$f":"#REF!","v":{"$error":"#REF!"}},null,{"$f":"#REF!","v":{"$error":"#REF!"}},{"$f":"#REF!","v":{"$error":"#REF!"}},27,{"$error":"#REF!"},{"$error":"#REF!"},{"$error":"#REF!"},{"$error":"#REF!"},{"$error":"#REF!"}]
[2.8000000000000001E-2,{"$error":"#REF!"},{"$error":"#REF!"},{"$f":"#REF!","v":{"$error":"#REF!"}},{"$f":"#REF!","v":{"$error":"#REF!"}},null,{"$f":"#REF!","v":{"$error":"#REF!"}},{"$f":"#REF!","v":{"$error":"#REF!"}},28,{"$error":"#REF!"},{"$error":"#REF!"},{"$error":"#REF!"},{"$error":"#REF!"},{"$error":"#REF!"}]
[2.9000000000000001E-2,{"$error":"#REF!"},{"$error":"#REF!"},{"$f":"#REF!","v":{"$error":"#REF!"}},{"$f":"#REF!","v":{"$error":"#REF!"}},null,{"$f":"#REF!","v":{"$error":"#REF!"}},{"$f":"#REF!","v":{"$error":"#REF!"}},29,{"$error":"#REF!"},{"$error":"#REF!"},{"$error":"#REF!"},{"$error":"#REF!"},{"$error":"#REF!"}]
[0.03,{"$error":"#REF!"},{"$error":"#REF!"},{"$f":"#REF!","v":{"$error":"#REF!"}},{"$f":"#REF!","v":{"$error":"#REF!"}},null,{"$f":"#REF!","v":{"$error":"#REF!"}},{"$f":"#REF!","v":{"$error":"#REF!"}},30,{"$error":"#REF!"},{"$error":"#REF!"},{"$error":"#REF!"},{"$error":"#REF!"},{"$error":"#REF!"}]
[3.1E-2,{"$error":"#REF!"},{"$error":"#REF!"},{"$f":"#REF!","v":{"$error":"#REF!"}},{"$f":"#REF!","v":{"$error":"#REF!"}},null,{"$f":"#REF!","v":{"$error":"#REF!"}},{"$f":"#REF!","v":{"$error":"#REF!"}},31,{"$error":"#REF!"},{"$error":"#REF!"},{"$error":"#REF!"},{"$error":"#REF!"},{"$error":"#REF!"}]
[3.2000000000000001E-2,{"$error":"#REF!"},{"$error":"#REF!"},{"$f":"#REF!","v":{"$error":"#REF!"}},{"$f":"#REF!","v":{"$error":"#REF!"}},null,{"$f":"#REF!","v":{"$error":"#REF!"}},{"$f":"#REF!","v":{"$error":"#REF!"}},32,{"$error":"#REF!"},{"$error":"#REF!"},{"$error":"#REF!"},{"$error":"#REF!"},{"$error":"#REF!"}]
[3.3000000000000002E-2,{"$error":"#REF!"},{"$error":"#REF!"},{"$f":"#REF!","v":{"$error":"#REF!"}},{"$f":"#REF!","v":{"$error":"#REF!"}},null,{"$f":"#REF!","v":{"$error":"#REF!"}},{"$f":"#REF!","v":{"$error":"#REF!"}},33,{"$error":"#REF!"},{"$error":"#REF!"},{"$error":"#REF!"},{"$error":"#REF!"},{"$error":"#REF!"}]
[3.4000000000000002E-2,{"$error":"#REF!"},{"$error":"#REF!"},{"$f":"#REF!","v":{"$error":"#REF!"}},{"$f":"#REF!","v":{"$error":"#REF!"}},null,{"$f":"#REF!","v":{"$error":"#REF!"}},{"$f":"#REF!","v":{"$error":"#REF!"}},34,{"$error":"#REF!"},{"$error":"#REF!"},{"$error":"#REF!"},{"$error":"#REF!"},{"$error":"#REF!"}]
[3.5000000000000003E-2,{"$error":"#REF!"},{"$error":"#REF!"},{"$f":"#REF!","v":{"$error":"#REF!"}},{"$f":"#REF!","v":{"$error":"#REF!"}},null,{"$f":"#REF!","v":{"$error":"#REF!"}},{"$f":"#REF!","v":{"$error":"#REF!"}},35,{"$error":"#REF!"},{"$error":"#REF!"},{"$error":"#REF!"},{"$error":"#REF!"},{"$error":"#REF!"}]
[3.5999999999999997E-2,{"$error":"#REF!"},{"$error":"#REF!"},{"$f":"#REF!","v":{"$error":"#REF!"}},{"$f":"#REF!","v":{"$error":"#REF!"}},null,{"$f":"#REF!","v":{"$error":"#REF!"}},{"$f":"#REF!","v":{"$error":"#REF!"}},36,{"$error":"#REF!"},{"$error":"#REF!"},{"$error":"#REF!"},{"$error":"#REF!"},{"$error":"#REF!"}]
[3.6999999999999998E-2,{"$error":"#REF!"},{"$error":"#REF!"},{"$f":"#REF!","v":{"$error":"#REF!"}},{"$f":"#REF!","v":{"$error":"#REF!"}},null,{"$f":"#REF!","v":{"$error":"#REF!"}},{"$f":"#REF!","v":{"$error":"#REF!"}},37,{"$error":"#REF!"},{"$error":"#REF!"},{"$error":"#REF!"},{"$error":"#REF!"},{"$error":"#REF!"}]
[3.7999999999999999E-2,{"$error":"#REF!"},{"$error":"#REF!"},{"$f":"#REF!","v":{"$error":"#REF!"}},{"$f":"#REF!","v":{"$error":"#REF!"}},null,{"$f":"#REF!","v":{"$error":"#REF!"}},{"$f":"#REF!","v":{"$error":"#REF!"}},38,{"$error":"#REF!"},{"$error":"#REF!"},{"$error":"#REF!"},{"$error":"#REF!"},{"$error":"#REF!"}]
[3.9E-2,{"$error":"#REF!"},{"$error":"#REF!"},{"$f":"#REF!","v":{"$error":"#REF!"}},{"$f":"#REF!","v":{"$error":"#REF!"}},null,{"$f":"#REF!","v":{"$error":"#REF!"}},{"$f":"#REF!","v":{"$error":"#REF!"}},39,{"$error":"#REF!"},{"$error":"#REF!"},{"$error":"#REF!"},{"$error":"#REF!"},{"$error":"#REF!"}]
[0.04,{"$error":"#REF!"},{"$error":"#REF!"},{"$f":"#REF!","v":{"$error":"#REF!"}},{"$f":"#REF!","v":{"$error":"#REF!"}},null,{"$f":"#REF!","v":{"$error":"#REF!"}},{"$f":"#REF!","v":{"$error":"#REF!"}},40,{"$error":"#REF!"},{"$error":"#REF!"},{"$error":"#REF!"},{"$error":"#REF!"},{"$error":"#REF!"}]
[4.1000000000000002E-2,{"$error":"#REF!"},{"$error":"#REF!"},{"$f":"#REF!","v":{"$error":"#REF!"}},{"$f":"#REF!","v":{"$error":"#REF!"}},null,{"$f":"#REF!","v":{"$error":"#REF!"}},{"$f":"#REF!","v":{"$error":"#REF!"}},41,{"$error":"#REF!"},{"$error":"#REF!"},{"$error":"#REF!"},{"$error":"#REF!"},{"$error":"#REF!"}]
[4.2000000000000003E-2,{"$error":"#REF!"},{"$error":"#REF!"},{"$f":"#REF!","v":{"$error":"#REF!"}},{"$f":"#REF!","v":{"$error":"#REF!"}},null,{"$f":"#REF!","v":{"$error":"#REF!"}},{"$f":"#REF!","v":{"$error":"#REF!"}},42,{"$error":"#REF!"},{"$error":"#REF!"},{"$error":"#REF!"},{"$error":"#REF!"},{"$error":"#REF!"}]
[4.2999999999999997E-2,{"$error":"#REF!"},{"$error":"#REF!"},{"$f":"#REF!","v":{"$error":"#REF!"}},{"$f":"#REF!","v":{"$error":"#REF!"}},null,{"$f":"#REF!","v":{"$error":"#REF!"}},{"$f":"#REF!","v":{"$error":"#REF!"}},43,{"$error":"#REF!"},{"$error":"#REF!"},{"$error":"#REF!"},{"$error":"#REF!"},{"$error":"#REF!"}]
[4.3999999999999997E-2,{"$error":"#REF!"},{"$error":"#REF!"},{"$f":"#REF!","v":{"$error":"#REF!"}},{"$f":"#REF!","v":{"$error":"#REF!"}},null,{"$f":"#REF!","v":{"$error":"#REF!"}},{"$f":"#REF!","v":{"$error":"#REF!"}},44,{"$error":"#REF!"},{"$error":"#REF!"},{"$error":"#REF!"},{"$error":"#REF!"},{"$error":"#REF!"}]
[4.4999999999999998E-2,{"$error":"#REF!"},{"$error":"#REF!"},{"$f":"#REF!","v":{"$error":"#REF!"}},{"$f":"#REF!","v":{"$error":"#REF!"}},null,{"$f":"#REF!","v":{"$error":"#REF!"}},{"$f":"#REF!","v":{"$error":"#REF!"}},45,{"$error":"#REF!"},{"$error":"#REF!"},{"$error":"#REF!"},{"$error":"#REF!"},{"$error":"#REF!"}]
[4.5999999999999999E-2,{"$error":"#REF!"},{"$error":"#REF!"},{"$f":"#REF!","v":{"$error":"#REF!"}},{"$f":"#REF!","v":{"$error":"#REF!"}},null,{"$f":"#REF!","v":{"$error":"#REF!"}},{"$f":"#REF!","v":{"$error":"#REF!"}},46,{"$error":"#REF!"},{"$error":"#REF!"},{"$error":"#REF!"},{"$error":"#REF!"},{"$error":"#REF!"}]
[4.7E-2,{"$error":"#REF!"},{"$error":"#REF!"},{"$f":"#REF!","v":{"$error":"#REF!"}},{"$f":"#REF!","v":{"$error":"#REF!"}},null,{"$f":"#REF!","v":{"$error":"#REF!"}},{"$f":"#REF!","v":{"$error":"#REF!"}},47,{"$error":"#REF!"},{"$error":"#REF!"},{"$error":"#REF!"},{"$error":"#REF!"},{"$error":"#REF!"}]
[4.8000000000000001E-2,{"$error":"#REF!"},{"$error":"#REF!"},{"$f":"#REF!","v":{"$error":"#REF!"}},{"$f":"#REF!","v":{"$error":"#REF!"}},null,{"$f":"#REF!","v":{"$error":"#REF!"}},{"$f":"#REF!","v":{"$error":"#REF!"}},48,{"$error":"#REF!"},{"$error":"#REF!"},{"$error":"#REF!"},{"$error":"#REF!"},{"$error":"#REF!"}]
[4.9000000000000002E-2,{"$error":"#REF!"},{"$error":"#REF!"},{"$f":"#REF!","v":{"$error":"#REF!"}},{"$f":"#REF!","v":{"$error":"#REF!"}},null,{"$f":"#REF!","v":{"$error":"#REF!"}},{"$f":"#REF!","v":{"$error":"#REF!"}},49,{"$error":"#REF!"},{"$error":"#REF!"},{"$error":"#REF!"},{"$error":"#REF!"},{"$error":"#REF!"}]
[0.05,{"$error":"#REF!"},{"$error":"#REF!"},{"$f":"#REF!","v":{"$error":"#REF!"}},{"$f":"#REF!","v":{"$error":"#REF!"}},null,{"$f":"#REF!","v":{"$error":"#REF!"}},{"$f":"#REF!","v":{"$error":"#REF!"}},50,{"$error":"#REF!"},{"$error":"#REF!"},{"$error":"#REF!"},{"$error":"#REF!"},{"$error":"#REF!"}]
[5.0999999999999997E-2,{"$error":"#REF!"},{"$error":"#REF!"},{"$f":"#REF!","v":{"$error":"#REF!"}},{"$f":"#REF!","v":{"$error":"#REF!"}},null,{"$f":"#REF!","v":{"$error":"#REF!"}},{"$f":"#REF!","v":{"$error":"#REF!"}},51,{"$error":"#REF!"},{"$error":"#REF!"},{"$error":"#REF!"},{"$error":"#REF!"},{"$error":"#REF!"}]
[5.1999999999999998E-2,{"$error":"#REF!"},{"$error":"#REF!"},{"$f":"#REF!","v":{"$error":"#REF!"}},{"$f":"#REF!","v":{"$error":"#REF!"}},null,{"$f":"#REF!","v":{"$error":"#REF!"}},{"$f":"#REF!","v":{"$error":"#REF!"}},52,{"$error":"#REF!"},{"$error":"#REF!"},{"$error":"#REF!"},{"$error":"#REF!"},{"$error":"#REF!"}]
[5.2999999999999999E-2,{"$error":"#REF!"},{"$error":"#REF!"},{"$f":"#REF!","v":{"$error":"#REF!"}},{"$f":"#REF!","v":{"$error":"#REF!"}},null,{"$f":"#REF!","v":{"$error":"#REF!"}},{"$f":"#REF!","v":{"$error":"#REF!"}},53,{"$error":"#REF!"},{"$error":"#REF!"},{"$error":"#REF!"},{"$error":"#REF!"},{"$error":"#REF!"}]
[5.3999999999999999E-2,{"$error":"#REF!"},{"$error":"#REF!"},{"$f":"#REF!","v":{"$error":"#REF!"}},{"$f":"#REF!","v":{"$error":"#REF!"}},null,{"$f":"#REF!","v":{"$error":"#REF!"}},{"$f":"#REF!","v":{"$error":"#REF!"}},54,{"$error":"#REF!"},{"$error":"#REF!"},{"$error":"#REF!"},{"$error":"#REF!"},{"$error":"#REF!"}]
[5.5E-2,{"$error":"#REF!"},{"$error":"#REF!"},{"$f":"#REF!","v":{"$error":"#REF!"}},{"$f":"#REF!","v":{"$error":"#REF!"}},null,{"$f":"#REF!","v":{"$error":"#REF!"}},{"$f":"#REF!","v":{"$error":"#REF!"}},55,{"$error":"#REF!"},{"$error":"#REF!"},{"$error":"#REF!"},{"$error":"#REF!"},{"$error":"#REF!"}]
[5.6000000000000001E-2,{"$error":"#REF!"},{"$error":"#REF!"},{"$f":"#REF!","v":{"$error":"#REF!"}},{"$f":"#REF!","v":{"$error":"#REF!"}},null,{"$f":"#REF!","v":{"$error":"#REF!"}},{"$f":"#REF!","v":{"$error":"#REF!"}},56,{"$error":"#REF!"},{"$error":"#REF!"},{"$error":"#REF!"},{"$error":"#REF!"},{"$error":"#REF!"}]
[5.7000000000000002E-2,{"$error":"#REF!"},{"$error":"#REF!"},{"$f":"#REF!","v":{"$error":"#REF!"}},{"$f":"#REF!","v":{"$error":"#REF!"}},null,{"$f":"#REF!","v":{"$error":"#REF!"}},{"$f":"#REF!","v":{"$error":"#REF!"}},57,{"$error":"#REF!"},{"$error":"#REF!"},{"$error":"#REF!"},{"$error":"#REF!"},{"$error":"#REF!"}]
[5.8000000000000003E-2,{"$error":"#REF!"},{"$error":"#REF!"},{"$f":"#REF!","v":{"$error":"#REF!"}},{"$f":"#REF!","v":{"$error":"#REF!"}},null,{"$f":"#REF!","v":{"$error":"#REF!"}},{"$f":"#REF!","v":{"$error":"#REF!"}},58,{"$error":"#REF!"},{"$error":"#REF!"},{"$error":"#REF!"},{"$error":"#REF!"},{"$error":"#REF!"}]
[5.8999999999999997E-2,{"$error":"#REF!"},{"$error":"#REF!"},{"$f":"#REF!","v":{"$error":"#REF!"}},{"$f":"#REF!","v":{"$error":"#REF!"}},null,{"$f":"#REF!","v":{"$error":"#REF!"}},{"$f":"#REF!","v":{"$error":"#REF!"}},59,{"$error":"#REF!"},{"$error":"#REF!"},{"$error":"#REF!"},{"$error":"#REF!"},{"$error":"#REF!"}]
[0.06,{"$error":"#REF!"},{"$error":"#REF!"},{"$f":"#REF!","v":{"$error":"#REF!"}},{"$f":"#REF!","v":{"$error":"#REF!"}},null,{"$f":"#REF!","v":{"$error":"#REF!"}},{"$f":"#REF!","v":{"$error":"#REF!"}},60,{"$error":"#REF!"},{"$error":"#REF!"},{"$error":"#REF!"},{"$error":"#REF!"},{"$error":"#REF!"}]
[6.0999999999999999E-2,{"$error":"#REF!"},{"$error":"#REF!"},{"$f":"#REF!","v":{"$error":"#REF!"}},{"$f":"#REF!","v":{"$error":"#REF!"}},null,{"$f":"#REF!","v":{"$error":"#REF!"}},{"$f":"#REF!","v":{"$error":"#REF!"}},61,{"$error":"#REF!"},{"$error":"#REF!"},{"$error":"#REF!"},{"$error":"#REF!"},{"$error":"#REF!"}]
[6.2E-2,{"$error":"#REF!"},{"$error":"#REF!"},{"$f":"#REF!","v":{"$error":"#REF!"}},{"$f":"#REF!","v":{"$error":"#REF!"}},null,{"$f":"#REF!","v":{"$error":"#REF!"}},{"$f":"#REF!","v":{"$error":"#REF!"}},62,{"$error":"#REF!"},{"$error":"#REF!"},{"$error":"#REF!"},{"$error":"#REF!"},{"$error":"#REF!"}]
[6.3E-2,{"$error":"#REF!"},{"$error":"#REF!"},{"$f":"#REF!","v":{"$error":"#REF!"}},{"$f":"#REF!","v":{"$error":"#REF!"}},null,{"$f":"#REF!","v":{"$error":"#REF!"}},{"$f":"#REF!","v":{"$error":"#REF!"}},63,{"$error":"#REF!"},{"$error":"#REF!"},{"$error":"#REF!"},{"$error":"#REF!"},{"$error":"#REF!"}]
[6.4000000000000001E-2,{"$error":"#REF!"},{"$error":"#REF!"},{"$f":"#REF!","v":{"$error":"#REF!"}},{"$f":"#REF!","v":{"$error":"#REF!"}},null,{"$f":"#REF!","v":{"$error":"#REF!"}},{"$f":"#REF!","v":{"$error":"#REF!"}},64,{"$error":"#REF!"},{"$error":"#REF!"},{"$error":"#REF!"},{"$error":"#REF!"},{"$error":"#REF!"}]
[6.5000000000000002E-2,{"$error":"#REF!"},{"$error":"#REF!"},{"$f":"#REF!","v":{"$error":"#REF!"}},{"$f":"#REF!","v":{"$error":"#REF!"}},null,{"$f":"#REF!","v":{"$error":"#REF!"}},{"$f":"#REF!","v":{"$error":"#REF!"}},65,{"$error":"#REF!"},{"$error":"#REF!"},{"$error":"#REF!"},{"$error":"#REF!"},{"$error":"#REF!"}]
[6.6000000000000003E-2,{"$f":"H86+A86","v":{"$error":"#REF!"}},{"$f":"RANK(H86,H$21:H$132,6)","v":{"$error":"#REF!"}},{"$f":"#REF!","v":{"$error":"#REF!"}},{"$f":"#REF!","v":{"$error":"#REF!"}},null,{"$f":"#REF!","v":{"$error":"#REF!"}},{"$f":"#REF!","v":{"$error":"#REF!"}},66,{"$f":"SMALL($B$21:$B$132,I86)","v":{"$error":"#REF!"}},{"$f":"VLOOKUP($J86,$B$21:$G$132,2,FALSE)","v":{"$error":"#REF!"}},{"$f":"VLOOKUP($J86,$B$21:$G$132,3,FALSE)","v":{"$error":"#REF!"}},{"$f":"VLOOKUP($J86,$B$21:$G$132,4,FALSE)","v":{"$error":"#REF!"}},{"$f":"VLOOKUP($J86,$B$21:$G$132,6,FALSE)","v":{"$error":"#REF!"}}]
[6.7000000000000004E-2,{"$error":"#REF!"},{"$error":"#REF!"},{"$f":"#REF!","v":{"$error":"#REF!"}},{"$f":"#REF!","v":{"$error":"#REF!"}},null,{"$f":"#REF!","v":{"$error":"#REF!"}},{"$f":"#REF!","v":{"$error":"#REF!"}},67,{"$error":"#REF!"},{"$error":"#REF!"},{"$error":"#REF!"},{"$error":"#REF!"},{"$error":"#REF!"}]
[6.8000000000000005E-2,{"$error":"#REF!"},{"$error":"#REF!"},{"$f":"#REF!","v":{"$error":"#REF!"}},{"$f":"#REF!","v":{"$error":"#REF!"}},null,{"$f":"#REF!","v":{"$error":"#REF!"}},{"$f":"#REF!","v":{"$error":"#REF!"}},68,{"$error":"#REF!"},{"$error":"#REF!"},{"$error":"#REF!"},{"$error":"#REF!"},{"$error":"#REF!"}]
[6.9000000000000006E-2,{"$error":"#REF!"},{"$error":"#REF!"},{"$f":"#REF!","v":{"$error":"#REF!"}},{"$f":"#REF!","v":{"$error":"#REF!"}},null,{"$f":"#REF!","v":{"$error":"#REF!"}},{"$f":"#REF!","v":{"$error":"#REF!"}},69,{"$error":"#REF!"},{"$error":"#REF!"},{"$error":"#REF!"},{"$error":"#REF!"},{"$error":"#REF!"}]
[7.0000000000000007E-2,{"$error":"#REF!"},{"$error":"#REF!"},{"$f":"#REF!","v":{"$error":"#REF!"}},{"$f":"#REF!","v":{"$error":"#REF!"}},null,{"$f":"#REF!","v":{"$error":"#REF!"}},{"$f":"#REF!","v":{"$error":"#REF!"}},70,{"$error":"#REF!"},{"$error":"#REF!"},{"$error":"#REF!"},{"$error":"#REF!"},{"$error":"#REF!"}]
[7.0999999999999994E-2,{"$error":"#REF!"},{"$error":"#REF!"},{"$f":"#REF!","v":{"$error":"#REF!"}},{"$f":"#REF!","v":{"$error":"#REF!"}},null,{"$f":"#REF!","v":{"$error":"#REF!"}},{"$f":"#REF!","v":{"$error":"#REF!"}},71,{"$error":"#REF!"},{"$error":"#REF!"},{"$error":"#REF!"},{"$error":"#REF!"},{"$error":"#REF!"}]
[7.1999999999999995E-2,{"$error":"#REF!"},{"$error":"#REF!"},{"$f":"#REF!","v":{"$error":"#REF!"}},{"$f":"#REF!","v":{"$error":"#REF!"}},null,{"$f":"#REF!","v":{"$error":"#REF!"}},{"$f":"#REF!","v":{"$error":"#REF!"}},72,{"$error":"#REF!"},{"$error":"#REF!"},{"$error":"#REF!"},{"$error":"#REF!"},{"$error":"#REF!"}]
[7.2999999999999995E-2,{"$error":"#REF!"},{"$error":"#REF!"},{"$f":"#REF!","v":{"$error":"#REF!"}},{"$f":"#REF!","v":{"$error":"#REF!"}},null,{"$f":"#REF!","v":{"$error":"#REF!"}},{"$f":"#REF!","v":{"$error":"#REF!"}},73,{"$error":"#REF!"},{"$error":"#REF!"},{"$error":"#REF!"},{"$error":"#REF!"},{"$error":"#REF!"}]
[7.3999999999999996E-2,{"$error":"#REF!"},{"$error":"#REF!"},{"$f":"#REF!","v":{"$error":"#REF!"}},{"$f":"#REF!","v":{"$error":"#REF!"}},null,{"$f":"#REF!","v":{"$error":"#REF!"}},{"$f":"#REF!","v":{"$error":"#REF!"}},74,{"$error":"#REF!"},{"$error":"#REF!"},{"$error":"#REF!"},{"$error":"#REF!"},{"$error":"#REF!"}]
[7.4999999999999997E-2,{"$error":"#REF!"},{"$error":"#REF!"},{"$f":"#REF!","v":{"$error":"#REF!"}},{"$f":"#REF!","v":{"$error":"#REF!"}},null,{"$f":"#REF!","v":{"$error":"#REF!"}},{"$f":"#REF!","v":{"$error":"#REF!"}},75,{"$error":"#REF!"},{"$error":"#REF!"},{"$error":"#REF!"},{"$error":"#REF!"},{"$error":"#REF!"}]
[7.5999999999999998E-2,{"$error":"#REF!"},{"$error":"#REF!"},{"$f":"#REF!","v":{"$error":"#REF!"}},{"$f":"#REF!","v":{"$error":"#REF!"}},null,{"$f":"#REF!","v":{"$error":"#REF!"}},{"$f":"#REF!","v":{"$error":"#REF!"}},76,{"$error":"#REF!"},{"$error":"#REF!"},{"$error":"#REF!"},{"$error":"#REF!"},{"$error":"#REF!"}]
[7.6999999999999999E-2,{"$error":"#REF!"},{"$error":"#REF!"},{"$f":"#REF!","v":{"$error":"#REF!"}},{"$f":"#REF!","v":{"$error":"#REF!"}},null,{"$f":"#REF!","v":{"$error":"#REF!"}},{"$f":"#REF!","v":{"$error":"#REF!"}},77,{"$error":"#REF!"},{"$error":"#REF!"},{"$error":"#REF!"},{"$error":"#REF!"},{"$error":"#REF!"}]
[7.8E-2,{"$error":"#REF!"},{"$error":"#REF!"},{"$f":"#REF!","v":{"$error":"#REF!"}},{"$f":"#REF!","v":{"$error":"#REF!"}},null,{"$f":"#REF!","v":{"$error":"#REF!"}},{"$f":"#REF!","v":{"$error":"#REF!"}},78,{"$error":"#REF!"},{"$error":"#REF!"},{"$error":"#REF!"},{"$error":"#REF!"},{"$error":"#REF!"}]
[7.9000000000000001E-2,{"$error":"#REF!"},{"$error":"#REF!"},{"$f":"#REF!","v":{"$error":"#REF!"}},{"$f":"#REF!","v":{"$error":"#REF!"}},null,{"$f":"#REF!","v":{"$error":"#REF!"}},{"$f":"#REF!","v":{"$error":"#REF!"}},79,{"$error":"#REF!"},{"$error":"#REF!"},{"$error":"#REF!"},{"$error":"#REF!"},{"$error":"#REF!"}]
[0.08,{"$error":"#REF!"},{"$error":"#REF!"},{"$f":"#REF!","v":{"$error":"#REF!"}},{"$f":"#REF!","v":{"$error":"#REF!"}},null,{"$f":"#REF!","v":{"$error":"#REF!"}},{"$f":"#REF!","v":{"$error":"#REF!"}},80,{"$error":"#REF!"},{"$error":"#REF!"},{"$error":"#REF!"},{"$error":"#REF!"},{"$error":"#REF!"}]
[8.1000000000000003E-2,{"$error":"#REF!"},{"$error":"#REF!"},{"$f":"#REF!","v":{"$error":"#REF!"}},{"$f":"#REF!","v":{"$error":"#REF!"}},null,{"$f":"#REF!","v":{"$error":"#REF!"}},{"$f":"#REF!","v":{"$error":"#REF!"}},81,{"$error":"#REF!"},{"$error":"#REF!"},{"$error":"#REF!"},{"$error":"#REF!"},{"$error":"#REF!"}]
[8.2000000000000003E-2,{"$error":"#REF!"},{"$error":"#REF!"},{"$f":"#REF!","v":{"$error":"#REF!"}},{"$f":"#REF!","v":{"$error":"#REF!"}},null,{"$f":"#REF!","v":{"$error":"#REF!"}},{"$f":"#REF!","v":{"$error":"#REF!"}},82,{"$error":"#REF!"},{"$error":"#REF!"},{"$error":"#REF!"},{"$error":"#REF!"},{"$error":"#REF!"}]
[8.3000000000000004E-2,{"$error":"#REF!"},{"$error":"#REF!"},{"$f":"#REF!","v":{"$error":"#REF!"}},{"$f":"#REF!","v":{"$error":"#REF!"}},null,{"$f":"#REF!","v":{"$error":"#REF!"}},{"$f":"#REF!","v":{"$error":"#REF!"}},83,{"$error":"#REF!"},{"$error":"#REF!"},{"$error":"#REF!"},{"$error":"#REF!"},{"$error":"#REF!"}]
[8.4000000000000005E-2,{"$error":"#REF!"},{"$error":"#REF!"},{"$f":"#REF!","v":{"$error":"#REF!"}},{"$f":"#REF!","v":{"$error":"#REF!"}},null,{"$f":"#REF!","v":{"$error":"#REF!"}},{"$f":"#REF!","v":{"$error":"#REF!"}},84,{"$error":"#REF!"},{"$error":"#REF!"},{"$error":"#REF!"},{"$error":"#REF!"},{"$error":"#REF!"}]
[8.5000000000000006E-2,{"$error":"#REF!"},{"$error":"#REF!"},{"$f":"#REF!","v":{"$error":"#REF!"}},{"$f":"#REF!","v":{"$error":"#REF!"}},null,{"$f":"#REF!","v":{"$error":"#REF!"}},{"$f":"#REF!","v":{"$error":"#REF!"}},85,{"$error":"#REF!"},{"$error":"#REF!"},{"$error":"#REF!"},{"$error":"#REF!"},{"$error":"#REF!"}]
[8.5999999999999993E-2,{"$error":"#REF!"},{"$error":"#REF!"},{"$f":"#REF!","v":{"$error":"#REF!"}},{"$f":"#REF!","v":{"$error":"#REF!"}},null,{"$f":"#REF!","v":{"$error":"#REF!"}},{"$f":"#REF!","v":{"$error":"#REF!"}},86,{"$error":"#REF!"},{"$error":"#REF!"},{"$error":"#REF!"},{"$error":"#REF!"},{"$error":"#REF!"}]
[8.6999999999999994E-2,{"$error":"#REF!"},{"$error":"#REF!"},{"$f":"#REF!","v":{"$error":"#REF!"}},{"$f":"#REF!","v":{"$error":"#REF!"}},null,{"$f":"#REF!","v":{"$error":"#REF!"}},{"$f":"#REF!","v":{"$error":"#REF!"}},87,{"$error":"#REF!"},{"$error":"#REF!"},{"$error":"#REF!"},{"$error":"#REF!"},{"$error":"#REF!"}]
[8.7999999999999995E-2,{"$error":"#REF!"},{"$error":"#REF!"},{"$f":"#REF!","v":{"$error":"#REF!"}},{"$f":"#REF!","v":{"$error":"#REF!"}},null,{"$f":"#REF!","v":{"$error":"#REF!"}},{"$f":"#REF!","v":{"$error":"#REF!"}},88,{"$error":"#REF!"},{"$error":"#REF!"},{"$error":"#REF!"},{"$error":"#REF!"},{"$error":"#REF!"}]
[8.8999999999999996E-2,{"$error":"#REF!"},{"$error":"#REF!"},{"$f":"#REF!","v":{"$error":"#REF!"}},{"$f":"#REF!","v":{"$error":"#REF!"}},null,{"$f":"#REF!","v":{"$error":"#REF!"}},{"$f":"#REF!","v":{"$error":"#REF!"}},89,{"$error":"#REF!"},{"$error":"#REF!"},{"$error":"#REF!"},{"$error":"#REF!"},{"$error":"#REF!"}]
[0.09,{"$error":"#REF!"},{"$error":"#REF!"},{"$f":"#REF!","v":{"$error":"#REF!"}},{"$f":"#REF!","v":{"$error":"#REF!"}},null,{"$f":"#REF!","v":{"$error":"#REF!"}},{"$f":"#REF!","v":{"$error":"#REF!"}},90,{"$error":"#REF!"},{"$error":"#REF!"},{"$error":"#REF!"},{"$error":"#REF!"},{"$error":"#REF!"}]
[9.0999999999999998E-2,{"$error":"#REF!"},{"$error":"#REF!"},{"$f":"#REF!","v":{"$error":"#REF!"}},{"$f":"#REF!","v":{"$error":"#REF!"}},null,{"$f":"#REF!","v":{"$error":"#REF!"}},{"$f":"#REF!","v":{"$error":"#REF!"}},91,{"$error":"#REF!"},{"$error":"#REF!"},{"$error":"#REF!"},{"$error":"#REF!"},{"$error":"#REF!"}]
[9.1999999999999998E-2,{"$error":"#REF!"},{"$error":"#REF!"},{"$f":"#REF!","v":{"$error":"#REF!"}},{"$f":"#REF!","v":{"$error":"#REF!"}},null,{"$f":"#REF!","v":{"$error":"#REF!"}},{"$f":"#REF!","v":{"$error":"#REF!"}},92,{"$error":"#REF!"},{"$error":"#REF!"},{"$error":"#REF!"},{"$error":"#REF!"},{"$error":"#REF!"}]
[9.2999999999999999E-2,{"$error":"#REF!"},{"$error":"#REF!"},{"$f":"#REF!","v":{"$error":"#REF!"}},{"$f":"#REF!","v":{"$error":"#REF!"}},null,{"$f":"#REF!","v":{"$error":"#REF!"}},{"$f":"#REF!","v":{"$error":"#REF!"}},93,{"$error":"#REF!"},{"$error":"#REF!"},{"$error":"#REF!"},{"$error":"#REF!"},{"$error":"#REF!"}]
[9.4E-2,{"$error":"#REF!"},{"$error":"#REF!"},{"$f":"#REF!","v":{"$error":"#REF!"}},{"$f":"#REF!","v":{"$error":"#REF!"}},null,{"$f":"#REF!","v":{"$error":"#REF!"}},{"$f":"#REF!","v":{"$error":"#REF!"}},94,{"$error":"#REF!"},{"$error":"#REF!"},{"$error":"#REF!"},{"$error":"#REF!"},{"$error":"#REF!"}]
[9.5000000000000001E-2,{"$error":"#REF!"},{"$error":"#REF!"},{"$f":"#REF!","v":{"$error":"#REF!"}},{"$f":"#REF!","v":{"$error":"#REF!"}},null,{"$f":"#REF!","v":{"$error":"#REF!"}},{"$f":"#REF!","v":{"$error":"#REF!"}},95,{"$error":"#REF!"},{"$error":"#REF!"},{"$error":"#REF!"},{"$error":"#REF!"},{"$error":"#REF!"}]
[9.6000000000000002E-2,{"$error":"#REF!"},{"$error":"#REF!"},{"$f":"#REF!","v":{"$error":"#REF!"}},{"$f":"#REF!","v":{"$error":"#REF!"}},null,{"$f":"#REF!","v":{"$error":"#REF!"}},{"$f":"#REF!","v":{"$error":"#REF!"}},96,{"$error":"#REF!"},{"$error":"#REF!"},{"$error":"#REF!"},{"$error":"#REF!"},{"$error":"#REF!"}]
[9.7000000000000003E-2,{"$error":"#REF!"},{"$error":"#REF!"},{"$f":"#REF!","v":{"$error":"#REF!"}},{"$f":"#REF!","v":{"$error":"#REF!"}},null,{"$f":"#REF!","v":{"$error":"#REF!"}},{"$f":"#REF!","v":{"$error":"#REF!"}},97,{"$error":"#REF!"},{"$error":"#REF!"},{"$error":"#REF!"},{"$error":"#REF!"},{"$error":"#REF!"}]
[9.8000000000000004E-2,{"$error":"#REF!"},{"$error":"#REF!"},{"$f":"#REF!","v":{"$error":"#REF!"}},{"$f":"#REF!","v":{"$error":"#REF!"}},null,{"$f":"#REF!","v":{"$error":"#REF!"}},{"$f":"#REF!","v":{"$error":"#REF!"}},98,{"$error":"#REF!"},{"$error":"#REF!"},{"$error":"#REF!"},{"$error":"#REF!"},{"$error":"#REF!"}]
[9.9000000000000005E-2,{"$error":"#REF!"},{"$error":"#REF!"},{"$f":"#REF!","v":{"$error":"#REF!"}},{"$f":"#REF!","v":{"$error":"#REF!"}},null,{"$f":"#REF!","v":{"$error":"#REF!"}},{"$f":"#REF!","v":{"$error":"#REF!"}},99,{"$error":"#REF!"},{"$error":"#REF!"},{"$error":"#REF!"},{"$error":"#REF!"},{"$error":"#REF!"}]
[0.1,{"$error":"#REF!"},{"$error":"#REF!"},{"$f":"#REF!","v":{"$error":"#REF!"}},{"$f":"#REF!","v":{"$error":"#REF!"}},null,{"$f":"#REF!","v":{"$error":"#REF!"}},{"$f":"#REF!","v":{"$error":"#REF!"}},100,{"$error":"#REF!"},{"$error":"#REF!"},{"$error":"#REF!"},{"$error":"#REF!"},{"$error":"#REF!"}]
[0.10100000000000001,{"$error":"#REF!"},{"$error":"#REF!"},{"$f":"#REF!","v":{"$error":"#REF!"}},{"$f":"#REF!","v":{"$error":"#REF!"}},null,{"$f":"#REF!","v":{"$error":"#REF!"}},{"$f":"#REF!","v":{"$error":"#REF!"}},101,{"$error":"#REF!"},{"$error":"#REF!"},{"$error":"#REF!"},{"$error":"#REF!"},{"$error":"#REF!"}]
[0.10199999999999999,{"$error":"#REF!"},{"$error":"#REF!"},{"$f":"#REF!","v":{"$error":"#REF!"}},{"$f":"#REF!","v":{"$error":"#REF!"}},null,{"$f":"#REF!","v":{"$error":"#REF!"}},{"$f":"#REF!","v":{"$error":"#REF!"}},102,{"$error":"#REF!"},{"$error":"#REF!"},{"$error":"#REF!"},{"$error":"#REF!"},{"$error":"#REF!"}]
[0.10299999999999999,{"$error":"#REF!"},{"$error":"#REF!"},{"$f":"#REF!","v":{"$error":"#REF!"}},{"$f":"#REF!","v":{"$error":"#REF!"}},null,{"$f":"#REF!","v":{"$error":"#REF!"}},{"$f":"#REF!","v":{"$error":"#REF!"}},103,{"$error":"#REF!"},{"$error":"#REF!"},{"$error":"#REF!"},{"$error":"#REF!"},{"$error":"#REF!"}]
[0.104,{"$error":"#REF!"},{"$error":"#REF!"},{"$f":"#REF!","v":{"$error":"#REF!"}},{"$f":"#REF!","v":{"$error":"#REF!"}},null,{"$f":"#REF!","v":{"$error":"#REF!"}},{"$f":"#REF!","v":{"$error":"#REF!"}},104,{"$error":"#REF!"},{"$error":"#REF!"},{"$error":"#REF!"},{"$error":"#REF!"},{"$error":"#REF!"}]
[0.105,{"$error":"#REF!"},{"$error":"#REF!"},{"$f":"#REF!","v":{"$error":"#REF!"}},{"$f":"#REF!","v":{"$error":"#REF!"}},null,{"$f":"#REF!","v":{"$error":"#REF!"}},{"$f":"#REF!","v":{"$error":"#REF!"}},105,{"$error":"#REF!"},{"$error":"#REF!"},{"$error":"#REF!"},{"$error":"#REF!"},{"$error":"#REF!"}]
[0.106,{"$error":"#REF!"},{"$error":"#REF!"},{"$f":"#REF!","v":{"$error":"#REF!"}},{"$f":"#REF!","v":{"$error":"#REF!"}},null,{"$f":"#REF!","v":{"$error":"#REF!"}},{"$f":"#REF!","v":{"$error":"#REF!"}},106,{"$error":"#REF!"},{"$error":"#REF!"},{"$error":"#REF!"},{"$error":"#REF!"},{"$error":"#REF!"}]
[0.107,{"$error":"#REF!"},{"$error":"#REF!"},{"$f":"#REF!","v":{"$error":"#REF!"}},{"$f":"#REF!","v":{"$error":"#REF!"}},null,{"$f":"#REF!","v":{"$error":"#REF!"}},{"$f":"#REF!","v":{"$error":"#REF!"}},107,{"$error":"#REF!"},{"$error":"#REF!"},{"$error":"#REF!"},{"$error":"#REF!"},{"$error":"#REF!"}]
[0.108,{"$error":"#REF!"},{"$error":"#REF!"},{"$f":"#REF!","v":{"$error":"#REF!"}},{"$f":"#REF!","v":{"$error":"#REF!"}},null,{"$f":"#REF!","v":{"$error":"#REF!"}},{"$f":"#REF!","v":{"$error":"#REF!"}},108,{"$error":"#REF!"},{"$error":"#REF!"},{"$error":"#REF!"},{"$error":"#REF!"},{"$error":"#REF!"}]
[0.109,{"$error":"#REF!"},{"$error":"#REF!"},{"$f":"#REF!","v":{"$error":"#REF!"}},{"$f":"#REF!","v":{"$error":"#REF!"}},null,{"$f":"#REF!","v":{"$error":"#REF!"}},{"$f":"#REF!","v":{"$error":"#REF!"}},109,{"$error":"#REF!"},{"$error":"#REF!"},{"$error":"#REF!"},{"$error":"#REF!"},{"$error":"#REF!"}]
[0.11,{"$error":"#REF!"},{"$error":"#REF!"},{"$f":"#REF!","v":{"$error":"#REF!"}},{"$f":"#REF!","v":{"$error":"#REF!"}},null,{"$f":"#REF!","v":{"$error":"#REF!"}},{"$f":"#REF!","v":{"$error":"#REF!"}},110,{"$error":"#REF!"},{"$error":"#REF!"},{"$error":"#REF!"},{"$error":"#REF!"},{"$error":"#REF!"}]
[0.111,{"$error":"#REF!"},{"$error":"#REF!"},{"$f":"#REF!","v":{"$error":"#REF!"}},{"$f":"#REF!","v":{"$error":"#REF!"}},null,{"$f":"#REF!","v":{"$error":"#REF!"}},{"$f":"#REF!","v":{"$error":"#REF!"}},111,{"$error":"#REF!"},{"$error":"#REF!"},{"$error":"#REF!"},{"$error":"#REF!"},{"$error":"#REF!"}]
[0.112,{"$error":"#REF!"},{"$error":"#REF!"},{"$f":"#REF!","v":{"$error":"#REF!"}},{"$f":"#REF!","v":{"$error":"#REF!"}},null,{"$f":"#REF!","v":{"$error":"#REF!"}},{"$f":"#REF!","v":{"$error":"#REF!"}},112,{"$error":"#REF!"},{"$error":"#REF!"},{"$error":"#REF!"},{"$error":"#REF!"},{"$error":"#REF!"}]